BEGIN:VCALENDAR
VERSION:2.0
PRODID:-//AFBBN - ECPv6.15.20//NONSGML v1.0//EN
CALSCALE:GREGORIAN
METHOD:PUBLISH
X-ORIGINAL-URL:https://afbbn.fr
X-WR-CALDESC:Évènements pour AFBBN
REFRESH-INTERVAL;VALUE=DURATION:PT1H
X-Robots-Tag:noindex
X-PUBLISHED-TTL:PT1H
BEGIN:VTIMEZONE
TZID:Europe/Paris
BEGIN:DAYLIGHT
TZOFFSETFROM:+0100
TZOFFSETTO:+0200
TZNAME:CEST
DTSTART:20250330T010000
END:DAYLIGHT
BEGIN:STANDARD
TZOFFSETFROM:+0200
TZOFFSETTO:+0100
TZNAME:CET
DTSTART:20251026T010000
END:STANDARD
BEGIN:DAYLIGHT
TZOFFSETFROM:+0100
TZOFFSETTO:+0200
TZNAME:CEST
DTSTART:20260329T010000
END:DAYLIGHT
BEGIN:STANDARD
TZOFFSETFROM:+0200
TZOFFSETTO:+0100
TZNAME:CET
DTSTART:20261025T010000
END:STANDARD
BEGIN:DAYLIGHT
TZOFFSETFROM:+0100
TZOFFSETTO:+0200
TZNAME:CEST
DTSTART:20270328T010000
END:DAYLIGHT
BEGIN:STANDARD
TZOFFSETFROM:+0200
TZOFFSETTO:+0100
TZNAME:CET
DTSTART:20271031T010000
END:STANDARD
END:VTIMEZONE
BEGIN:VEVENT
DTSTART;VALUE=DATE:20260524
DTEND;VALUE=DATE:20260525
DTSTAMP:20260425T175915
CREATED:20251120T124134Z
LAST-MODIFIED:20251230T193440Z
UID:7792-1779580800-1779667199@afbbn.fr
SUMMARY:AECN - INTERNATIONALE CUP - 24 MAI 2026 - VALENCIA (espagne)
DESCRIPTION:Sélection obligatoire des compétiteurs pour pouvoir concourir. \nAmateur : les compétiteurs obtenant un Top 5 dans une catégorie peuvent prétendre à concourir à cette compétition. \nPRO : les compétiteurs souhaitant concourir à l’international doivent prévenir l’AFBBN au préalable et être à jour de leur adhésion à l’AFBBN.
URL:https://afbbn.fr/competition/aecn-physique_mania_internationale-cup-24-mai-2026-valencia-espagne/
CATEGORIES:Compétitions
ATTACH;FMTTYPE=image/jpeg:https://afbbn.fr/wp-content/uploads/2025/11/affiche-international-cup-physique-mania.jpeg
END:VEVENT
BEGIN:VEVENT
DTSTART;TZID=Europe/Paris:20260529T100000
DTEND;TZID=Europe/Paris:20260530T200000
DTSTAMP:20260425T175915
CREATED:20251120T123734Z
LAST-MODIFIED:20251209T131529Z
UID:7786-1780048800-1780171200@afbbn.fr
SUMMARY:AINBB - M. & MS WELLNESS - 29/30 MAI 2026 (Italie - Rimini)
DESCRIPTION:Sélection obligatoire des compétiteurs pour pouvoir concourir. \nAmateur : les compétiteurs obtenant un Top 5 dans une catégorie peuvent prétendre à concourir à cette compétition internationale. \nPRO : les compétiteurs souhaitant concourir à l’international doivent prévenir l’AFBBN au préalable et être à jour de leur adhésion à l’AFBBN.
URL:https://afbbn.fr/competition/ainbb-m-ms-riminiwellness-29-et-30-mai-2026-italie-rimini/
CATEGORIES:Compétitions
ATTACH;FMTTYPE=image/jpeg:https://afbbn.fr/wp-content/uploads/2025/11/rimini.jpg
END:VEVENT
BEGIN:VEVENT
DTSTART;TZID=Europe/Paris:20260612T100000
DTEND;TZID=Europe/Paris:20260613T210000
DTSTAMP:20260425T175915
CREATED:20251024T102338Z
LAST-MODIFIED:20251209T131103Z
UID:7567-1781258400-1781384400@afbbn.fr
SUMMARY:PHYSIQUE-MANIA et NCOBB - CHAMPIONNATS D'EUROPE - 12 et 13 juin 2026 (Bredene)
DESCRIPTION:Sélection obligatoire des compétiteurs pour pouvoir concourir au championnat du Monde 2026 \nAmateur : les compétiteurs obtenant un Top 5 dans une catégorie peuvent concourir au championnat d’Europe 2026. \nPRO : les compétiteurs souhaitant concourir à l’international doivent participer à l’une des compétitions organisées par l’AFBBN.
URL:https://afbbn.fr/competition/ncobb-championnats-deurope-12-et-13-juin-2026/
CATEGORIES:Compétitions
ATTACH;FMTTYPE=image/jpeg:https://afbbn.fr/wp-content/uploads/2025/10/phisique-mania-european-championnschip.jpg
END:VEVENT
BEGIN:VEVENT
DTSTART;VALUE=DATE:20260726
DTEND;VALUE=DATE:20260727
DTSTAMP:20260425T175915
CREATED:20251128T141829Z
LAST-MODIFIED:20251209T131431Z
UID:7946-1785024000-1785110399@afbbn.fr
SUMMARY:AINBB - THE NIGHT OF THE NATURAL - PERUGIA (ITALIE) - 26 JUILLET 2026
DESCRIPTION:Sélection obligatoire des compétiteurs pour pouvoir concourir. \nAmateur : les compétiteurs obtenant un Top 5 dans une catégorie peuvent concourir à cette compétition internationale. \nPRO : les compétiteurs souhaitant concourir à l’international doivent prévenir l’AFBBN au préalable et être à jour de leur adhésion à l’AFBBN.
URL:https://afbbn.fr/competition/ainbb-the-night-of-the-natural-perugia-italie-28-juillet-2026/
CATEGORIES:Compétitions
ATTACH;FMTTYPE=image/jpeg:https://afbbn.fr/wp-content/uploads/2025/11/ainbb.jpg
END:VEVENT
BEGIN:VEVENT
DTSTART;VALUE=DATE:20260904
DTEND;VALUE=DATE:20260907
DTSTAMP:20260425T175915
CREATED:20251128T143953Z
LAST-MODIFIED:20260205T100008Z
UID:7967-1788480000-1788739199@afbbn.fr
SUMMARY:PHYSIQUE MANIA et AINBB - UNIVERSE - LOS ANGELES - 4 AU 6 SEPTEMBRE 2026
DESCRIPTION:Sélection obligatoire des compétiteurs pour pouvoir concourir. \nAmateur : les compétiteurs obtenant un Top 5 dans une catégorie peuvent concourir à cette compétition internationale. \nPRO : les compétiteurs souhaitant concourir à cette compétition doivent au préalable se sélectionner au Natural Show du Perray.
URL:https://afbbn.fr/competition/physique-mania-universe-4-au-6-septembre-2026-los-angeles/
CATEGORIES:Compétitions
ATTACH;FMTTYPE=image/jpeg:https://afbbn.fr/wp-content/uploads/2025/11/AFFICHE-LOS-ANGELES-4-6-SEPTEMBRE.jpeg
END:VEVENT
BEGIN:VEVENT
DTSTART;VALUE=DATE:20261011
DTEND;VALUE=DATE:20261012
DTSTAMP:20260425T175915
CREATED:20251128T143115Z
LAST-MODIFIED:20260105T135747Z
UID:7958-1791676800-1791763199@afbbn.fr
SUMMARY:NCOBB - INTERNATIONAL CHAMPIONSCHIPS - BREDENE (Belgique) - 11 octobre 2026
DESCRIPTION:Sélection obligatoire des compétiteurs pour pouvoir concourir. \nAmateur : les compétiteurs obtenant un Top 5 dans une catégorie peuvent  à concourir à cette compétition internationale. \nPRO : les compétiteurs souhaitant concourir à l’international doivent prévenir l’AFBBN au préalable et être à jour de leur adhésion à l’AFBBN.
URL:https://afbbn.fr/competition/physique-mania-european-championships-bredene-belgique-13-juin-2026-ncobb/
CATEGORIES:Compétitions
ATTACH;FMTTYPE=image/jpeg:https://afbbn.fr/wp-content/uploads/2025/11/ncobb.jpg
END:VEVENT
BEGIN:VEVENT
DTSTART;TZID=Europe/Paris:20261030T080000
DTEND;TZID=Europe/Paris:20261031T170000
DTSTAMP:20260425T175915
CREATED:20251120T122253Z
LAST-MODIFIED:20251209T131639Z
UID:7762-1793347200-1793466000@afbbn.fr
SUMMARY:PHYSIQUE-MANIA et AECN CHAMPIONNAT DU MONDE (espagne) 30 oct - 1er nov 2026
DESCRIPTION:Sélection obligatoire des compétiteurs pour pouvoir concourir au championnat du Monde 2026 \nAmateur : les compétiteurs obtenant un Top 5 dans une catégorie peuvent concourir au championnat du Monde 2026. \nPRO : les compétiteurs souhaitant concourir à l’international doivent participer à l’une des compétitions organisées par l’AFBBN.
URL:https://afbbn.fr/competition/physique-mania-championnat-du-monde-espagne-30-oct-2026-1er-nov-2026/
CATEGORIES:Compétitions
ATTACH;FMTTYPE=image/png:https://afbbn.fr/wp-content/uploads/2025/04/nuovo-_physique_mania_GOLD.png
END:VEVENT
END:VCALENDAR